BEGIN:VCALENDAR
VERSION:2.0
PRODID:DPCALENDAR
CALSCALE:GREGORIAN
BEGIN:VTIMEZONE
TZID:America/New_York
X-MICROSOFT-CDO-TZID:10
BEGIN:STANDARD
DTSTART:20251102T060000
TZOFFSETFROM:-0400
TZOFFSETTO:-0500
TZNAME:EST
END:STANDARD
BEGIN:STANDARD
DTSTART:20261101T060000
TZOFFSETFROM:-0400
TZOFFSETTO:-0500
TZNAME:EST
END:STANDARD
BEGIN:DAYLIGHT
DTSTART:20260308T070000
TZOFFSETFROM:-0500
TZOFFSETTO:-0400
TZNAME:EDT
END:DAYLIGHT
END:VTIMEZONE
X-WR-TIMEZONE:America/New_York
BEGIN:VEVENT
DTSTART;TZID=America/New_York:20240318T190000
DTEND;TZID=America/New_York:20240318T200000
RRULE:FREQ=MONTHLY;BYDAY=3MO;INTERVAL=1;UNTIL=20250101T235900Z
EXDATE:20240819T230000Z
UID:071C2227-AF95-4408-8FE7-0405C1A84B69
SUMMARY:Library Board of Trustees Meeting
CREATED:20240305T161839Z
DTSTAMP:20240305T161839Z
URL:https://demarestnj.gov/resident/calendar/library-board-of-trustees-meeting
DESCRIPTION:Held @ Demarest Free Public Library\N90 Hardenburgh Ave, Demarest, NJ 07627
X-ALT-DESC;FMTTYPE=text/html:<p><span style="font-size: 18pt;">Held @ Demarest Free Public Library</span></p><p><span style="font-size: 18pt;">90 Hardenburgh Ave, Demarest, NJ 07627</span></p>
LAST-MODIFIED:20240305T173802Z
SEQUENCE:4763
X-ACCESS:1
X-HITS:95
X-COLOR:3366cc
X-SHOW-END-TIME:1
END:VEVENT
BEGIN:VEVENT
DTSTART;TZID=America/New_York:20240429T190000
DTEND;TZID=America/New_York:20240429T200000
UID:071C2227-AF95-4408-8FE7-0405C1A84B69
RECURRENCE-ID:20240415T230000Z
SUMMARY:Library Board of Trustees Meeting
CREATED:20240305T161839Z
DTSTAMP:20240305T161839Z
URL:https://demarestnj.gov/resident/calendar/library-board-of-trustees-meeting-1713222000
DESCRIPTION:Held @ Demarest Free Public Library\N90 Hardenburgh Ave, Demarest, NJ 07627
X-ALT-DESC;FMTTYPE=text/html:<p><span style="font-size: 18pt;">Held @ Demarest Free Public Library</span></p><p><span style="font-size: 18pt;">90 Hardenburgh Ave, Demarest, NJ 07627</span></p>
LAST-MODIFIED:20240305T173815Z
SEQUENCE:4776
X-ACCESS:1
X-HITS:682
X-COLOR:3366cc
X-SHOW-END-TIME:1
END:VEVENT
END:VCALENDAR