BEGIN:VCALENDAR
VERSION:2.0
PRODID:DPCALENDAR
CALSCALE:GREGORIAN
BEGIN:VTIMEZONE
TZID:America/New_York
X-MICROSOFT-CDO-TZID:10
BEGIN:STANDARD
DTSTART:20251102T060000
TZOFFSETFROM:-0400
TZOFFSETTO:-0500
TZNAME:EST
END:STANDARD
BEGIN:STANDARD
DTSTART:20261101T060000
TZOFFSETFROM:-0400
TZOFFSETTO:-0500
TZNAME:EST
END:STANDARD
BEGIN:DAYLIGHT
DTSTART:20260308T070000
TZOFFSETFROM:-0500
TZOFFSETTO:-0400
TZNAME:EDT
END:DAYLIGHT
END:VTIMEZONE
X-WR-TIMEZONE:America/New_York
BEGIN:VEVENT
DTSTART;TZID=America/New_York:20230502T190000
DTEND;TZID=America/New_York:20230502T200000
RRULE:FREQ=MONTHLY;BYDAY=1TU;INTERVAL=1;UNTIL=20231231T235900Z
EXDATE:20230606T230000Z,20230704T230000Z,20230801T230000Z,20230905T230000Z,20231003T230000Z,20231108T000000Z,20231206T000000Z
UID:0653A2B0-23AF-4720-9074-A91762D488EF
SUMMARY:Health Meeting
CREATED:20230425T151044Z
DTSTAMP:20230425T151044Z
URL:https://demarestnj.gov/resident/calendar/health-meeting
X-ACCESS:1
X-HITS:84
X-COLOR:3366CC
X-SHOW-END-TIME:0
END:VEVENT
BEGIN:VEVENT
DTSTART;TZID=America/New_York:20240107T190000
DTEND;TZID=America/New_York:20240107T200000
RRULE:FREQ=MONTHLY;BYDAY=3WE;INTERVAL=4;UNTIL=20241121T235900Z
EXDATE:20240108T000000Z
UID:1BDA593E-553B-464F-B648-4A29A48BE790
SUMMARY:Board of Health Meeting
CREATED:20240305T125001Z
DTSTAMP:20240305T125001Z
URL:https://demarestnj.gov/resident/calendar/board-of-health-meeting
DESCRIPTION:Annual schedule of regular meetings for 2024 of the Demarest Board of Health will be held at 7:00pm in the Borough Hall, 118 Serpentine Road, Demarest on the following dates. Formal action may be taken.
X-ALT-DESC;FMTTYPE=text/html:<p>Annual schedule of regular meetings for 2024 of the Demarest Board of Health will be held at 7:00pm in the Borough Hall, 118 Serpentine Road, Demarest on the following dates. Formal action may be taken.</p>
X-ACCESS:1
X-HITS:98
X-COLOR:3366CC
X-SHOW-END-TIME:0
END:VEVENT
BEGIN:VEVENT
DTSTART;TZID=America/New_York:20241120T190000
DTEND;TZID=America/New_York:20241120T200000
UID:1BDA593E-553B-464F-B648-4A29A48BE790
RECURRENCE-ID:20240118T000000Z
SUMMARY:Board of Health Meeting
CREATED:20240305T125001Z
DTSTAMP:20240305T125001Z
URL:https://demarestnj.gov/resident/calendar/board-of-health-meeting-1705536000
DESCRIPTION:Annual schedule of regular meetings for 2024 of the Demarest Board of Health will be held at 7:00pm in the Borough Hall, 118 Serpentine Road, Demarest on the following dates. Formal action may be taken.
X-ALT-DESC;FMTTYPE=text/html:<p>Annual schedule of regular meetings for 2024 of the Demarest Board of Health will be held at 7:00pm in the Borough Hall, 118 Serpentine Road, Demarest on the following dates. Formal action may be taken.</p>
LAST-MODIFIED:20240305T125057Z
SEQUENCE:56
X-ACCESS:1
X-HITS:820
X-COLOR:3366CC
X-SHOW-END-TIME:0
END:VEVENT
BEGIN:VEVENT
DTSTART;TZID=America/New_York:20250115T190000
DTEND;TZID=America/New_York:20250115T200000
UID:2DE9C1C6-88B9-45AD-A1B0-EA0B7C760F8B
SUMMARY:Board of Health Reorg Meeting
CREATED:20250102T125524Z
DTSTAMP:20250102T125524Z
URL:https://demarestnj.gov/resident/calendar/board-of-health-reorg-meeting
LAST-MODIFIED:20250106T145749Z
SEQUENCE:352945
X-ACCESS:1
X-HITS:527
X-COLOR:590093
X-SHOW-END-TIME:0
END:VEVENT
BEGIN:VEVENT
DTSTART;TZID=America/New_York:20250319T190000
DTEND;TZID=America/New_York:20250319T200000
UID:71F63D9B-0058-47EF-B508-54AB0A744B6E
SUMMARY:Board of Health Meeting
CREATED:20250310T134453Z
DTSTAMP:20250310T134453Z
URL:https://demarestnj.gov/resident/calendar/board-of-health-meeting-2
LAST-MODIFIED:20250310T134520Z
SEQUENCE:27
X-ACCESS:1
X-HITS:313
X-COLOR:590093
X-SHOW-END-TIME:0
END:VEVENT
BEGIN:VEVENT
DTSTART;TZID=America/New_York:20250521T190000
DTEND;TZID=America/New_York:20250521T210000
UID:B1E6B90A-9D31-4923-8D01-5A918300A2C8
SUMMARY:Board of Health Meeting
CREATED:20250508T135158Z
DTSTAMP:20250508T135158Z
URL:https://demarestnj.gov/resident/calendar/board-of-health-meeting-3
LAST-MODIFIED:20250508T135248Z
SEQUENCE:50
X-ACCESS:1
X-HITS:306
X-COLOR:590093
X-SHOW-END-TIME:0
END:VEVENT
BEGIN:VEVENT
DTSTART;TZID=America/New_York:20250716T190000
DTEND;TZID=America/New_York:20250716T200000
UID:6DDD039C-AD68-493E-9F31-50E0CBF10BB6
SUMMARY:Board of Health Meeting
CREATED:20250508T135329Z
DTSTAMP:20250508T135329Z
URL:https://demarestnj.gov/resident/calendar/board-of-health-meeting-4
LAST-MODIFIED:20250508T135347Z
SEQUENCE:18
X-ACCESS:1
X-HITS:379
X-COLOR:590093
X-SHOW-END-TIME:0
END:VEVENT
BEGIN:VEVENT
DTSTART;TZID=America/New_York:20250917T190000
DTEND;TZID=America/New_York:20250917T200000
UID:92F152D3-90AE-4F39-B311-80EBB1C83752
SUMMARY:Board of Health Meeting
CREATED:20250508T135436Z
DTSTAMP:20250508T135436Z
URL:https://demarestnj.gov/resident/calendar/board-of-health-meeting-5
LAST-MODIFIED:20250508T135456Z
SEQUENCE:20
X-ACCESS:1
X-HITS:640
X-COLOR:590093
X-SHOW-END-TIME:0
END:VEVENT
BEGIN:VEVENT
DTSTART;TZID=America/New_York:20251112T190000
DTEND;TZID=America/New_York:20251112T200000
UID:DE099B53-B59F-422E-883D-75680F5A5DB0
SUMMARY:Board of Health Meeting
CREATED:20250508T135511Z
DTSTAMP:20250508T135511Z
URL:https://demarestnj.gov/resident/calendar/board-of-health-meeting-6
LAST-MODIFIED:20250508T135529Z
SEQUENCE:18
X-ACCESS:1
X-HITS:807
X-COLOR:590093
X-SHOW-END-TIME:0
END:VEVENT
BEGIN:VEVENT
DTSTART;TZID=America/New_York:20260121T190000
DTEND;TZID=America/New_York:20260121T200000
UID:E9B3368A-3BC4-4C33-BF3E-6A70A744B683
SUMMARY:Board of Health Reorg Meeting
CREATED:20260106T144936Z
DTSTAMP:20260106T144936Z
URL:https://demarestnj.gov/resident/calendar/board-of-health-reorg-meeting-2
DESCRIPTION:ANNUAL REORGANIZATION MEETINGS - 2026\NPlease be advised that the following bodies of the Borough of Demarest will be holding their annual reorganization meetings at the dates and times below in the Demarest Borough Hall located at 118 Serpentine Road, Demarest, NJ unless otherwise advertised in accordance with the Open Public Meetings Act.\NEnvironmental Commission, Tuesday, January 20, 2026, at 7:30 pm\NBoard of Health, Wednesday, January 21, 2026, at 7:00 pm\NRecreation Commission, Wednesday, January 21, 2026, at 8:00 pm\NShade Tree Commission, Thursday, January 22, 2026, at 7:00 pm\NMichael Greco, Deputy Borough Clerk\NBorough of Demarest
X-ALT-DESC;FMTTYPE=text/html:<p><strong>ANNUAL REORGANIZATION MEETINGS - 2026</strong></p><p>Please be advised that the following bodies of the Borough of Demarest will be holding their annual reorganization meetings at the dates and times below in the Demarest Borough Hall located at 118 Serpentine Road, Demarest, NJ unless otherwise advertised in accordance with the Open Public Meetings Act.</p><p>Environmental Commission, Tuesday, January 20, 2026, at 7:30 pm</p><p>Board of Health, Wednesday, January 21, 2026, at 7:00 pm</p><p>Recreation Commission, Wednesday, January 21, 2026, at 8:00 pm</p><p>Shade Tree Commission, Thursday, January 22, 2026, at 7:00 pm</p><p>Michael Greco, Deputy Borough Clerk</p><p>Borough of Demarest</p>
LAST-MODIFIED:20260114T151856Z
SEQUENCE:692960
X-ACCESS:1
X-HITS:249
X-COLOR:590093
X-SHOW-END-TIME:0
END:VEVENT
BEGIN:VEVENT
DTSTART;TZID=America/New_York:20260318T190000
DTEND;TZID=America/New_York:20260318T200000
RRULE:FREQ=MONTHLY;BYDAY=3WE;INTERVAL=2;UNTIL=20261231T235900Z
UID:5F8883D8-A78B-48D8-87A7-BD250653A31F
SUMMARY:Board of Health Meeting
CREATED:20260122T172727Z
DTSTAMP:20260122T172727Z
URL:https://demarestnj.gov/resident/calendar/board-of-health-meeting-7
DESCRIPTION:BOARD OF HEALTH ANNUAL MEETINGS SCHEDULE - 2026\NPlease be advised that the Board of Health of the Borough of Demarest will meet on the following dates for the year 2026. The Board of Health meets at 7:00 PM at Demarest Borough Hall, 118 Serpentine Road, Demarest, NJ 07627, unless otherwise advertised in accordance with the Open Public Meetings Act.\N\N\N\N\NWednesday, January 21, 2026\N\N\NWednesday, July 15, 2026\N\N\N\N\NWednesday, March 18, 2026\N\N\NWednesday, September 30, 2026\N\N\N\N\NWednesday, May 20, 2026\N\N\NTuesday, December 1, 2026\N\N\N\N\N \NMichael Greco, Deputy Borough ClerkBorough of Demarest
X-ALT-DESC;FMTTYPE=text/html:<p><span style="font-size: 14pt;"><strong>BOARD OF HEALTH ANNUAL MEETINGS SCHEDULE - 2026</strong></span></p><p><span style="font-size: 14pt;">Please be advised that the Board of Health of the Borough of Demarest will meet on the following dates for the year 2026. The Board of Health meets at 7:00 PM at Demarest Borough Hall, 118 Serpentine Road, Demarest, NJ 07627, unless otherwise advertised in accordance with the Open Public Meetings Act.</span></p><table border="0" cellspacing="0" cellpadding="0"><tbody><tr><td style="vertical-align: top;"><p><span style="font-size: 14pt;">Wednesday, January 21, 2026</span></p></td><td style="vertical-align: top;"><p><span style="font-size: 14pt;">Wednesday, July 15, 2026</span></p></td></tr><tr><td style="vertical-align: top;"><p><span style="font-size: 14pt;">Wednesday, March 18, 2026</span></p></td><td style="vertical-align: top;"><p><span style="font-size: 14pt;">Wednesday, September 30, 2026</span></p></td></tr><tr><td style="vertical-align: top;"><p><span style="font-size: 14pt;">Wednesday, May 20, 2026</span></p></td><td style="vertical-align: top;"><p><span style="font-size: 14pt;">Tuesday, December 1, 2026</span></p></td></tr></tbody></table><p>&nbsp;</p><p><span style="font-size: 14pt;">Michael Greco, Deputy Borough Clerk<br /></span><span style="font-size: 14pt;">Borough of Demarest</span></p>
LAST-MODIFIED:20260122T172905Z
SEQUENCE:98
X-ACCESS:1
X-HITS:2
X-COLOR:590093
X-SHOW-END-TIME:0
END:VEVENT
BEGIN:VEVENT
DTSTART;TZID=America/New_York:20260930T190000
DTEND;TZID=America/New_York:20260930T200000
UID:5F8883D8-A78B-48D8-87A7-BD250653A31F
RECURRENCE-ID:20260916T230000Z
SUMMARY:Board of Health Meeting
CREATED:20260122T172727Z
DTSTAMP:20260122T172727Z
URL:https://demarestnj.gov/resident/calendar/board-of-health-meeting-7-1789599600
DESCRIPTION:BOARD OF HEALTH ANNUAL MEETINGS SCHEDULE - 2026\NPlease be advised that the Board of Health of the Borough of Demarest will meet on the following dates for the year 2026. The Board of Health meets at 7:00 PM at Demarest Borough Hall, 118 Serpentine Road, Demarest, NJ 07627, unless otherwise advertised in accordance with the Open Public Meetings Act.\N\N\N\N\NWednesday, January 21, 2026\N\N\NWednesday, July 15, 2026\N\N\N\N\NWednesday, March 18, 2026\N\N\NWednesday, September 30, 2026\N\N\N\N\NWednesday, May 20, 2026\N\N\NTuesday, December 1, 2026\N\N\N\N\N \NMichael Greco, Deputy Borough ClerkBorough of Demarest
X-ALT-DESC;FMTTYPE=text/html:<p><span style="font-size: 14pt;"><strong>BOARD OF HEALTH ANNUAL MEETINGS SCHEDULE - 2026</strong></span></p><p><span style="font-size: 14pt;">Please be advised that the Board of Health of the Borough of Demarest will meet on the following dates for the year 2026. The Board of Health meets at 7:00 PM at Demarest Borough Hall, 118 Serpentine Road, Demarest, NJ 07627, unless otherwise advertised in accordance with the Open Public Meetings Act.</span></p><table border="0" cellspacing="0" cellpadding="0"><tbody><tr><td style="vertical-align: top;"><p><span style="font-size: 14pt;">Wednesday, January 21, 2026</span></p></td><td style="vertical-align: top;"><p><span style="font-size: 14pt;">Wednesday, July 15, 2026</span></p></td></tr><tr><td style="vertical-align: top;"><p><span style="font-size: 14pt;">Wednesday, March 18, 2026</span></p></td><td style="vertical-align: top;"><p><span style="font-size: 14pt;">Wednesday, September 30, 2026</span></p></td></tr><tr><td style="vertical-align: top;"><p><span style="font-size: 14pt;">Wednesday, May 20, 2026</span></p></td><td style="vertical-align: top;"><p><span style="font-size: 14pt;">Tuesday, December 1, 2026</span></p></td></tr></tbody></table><p>&nbsp;</p><p><span style="font-size: 14pt;">Michael Greco, Deputy Borough Clerk<br /></span><span style="font-size: 14pt;">Borough of Demarest</span></p>
LAST-MODIFIED:20260122T172934Z
SEQUENCE:127
X-ACCESS:1
X-HITS:227
X-COLOR:590093
X-SHOW-END-TIME:0
END:VEVENT
BEGIN:VEVENT
DTSTART;TZID=America/New_York:20261201T190000
DTEND;TZID=America/New_York:20261201T200000
UID:5F8883D8-A78B-48D8-87A7-BD250653A31F
RECURRENCE-ID:20261119T000000Z
SUMMARY:Board of Health Meeting
CREATED:20260122T172727Z
DTSTAMP:20260122T172727Z
URL:https://demarestnj.gov/resident/calendar/board-of-health-meeting-7-1795046400
DESCRIPTION:BOARD OF HEALTH ANNUAL MEETINGS SCHEDULE - 2026\NPlease be advised that the Board of Health of the Borough of Demarest will meet on the following dates for the year 2026. The Board of Health meets at 7:00 PM at Demarest Borough Hall, 118 Serpentine Road, Demarest, NJ 07627, unless otherwise advertised in accordance with the Open Public Meetings Act.\N\N\N\N\NWednesday, January 21, 2026\N\N\NWednesday, July 15, 2026\N\N\N\N\NWednesday, March 18, 2026\N\N\NWednesday, September 30, 2026\N\N\N\N\NWednesday, May 20, 2026\N\N\NTuesday, December 1, 2026\N\N\N\N\N \NMichael Greco, Deputy Borough ClerkBorough of Demarest
X-ALT-DESC;FMTTYPE=text/html:<p><span style="font-size: 14pt;"><strong>BOARD OF HEALTH ANNUAL MEETINGS SCHEDULE - 2026</strong></span></p><p><span style="font-size: 14pt;">Please be advised that the Board of Health of the Borough of Demarest will meet on the following dates for the year 2026. The Board of Health meets at 7:00 PM at Demarest Borough Hall, 118 Serpentine Road, Demarest, NJ 07627, unless otherwise advertised in accordance with the Open Public Meetings Act.</span></p><table border="0" cellspacing="0" cellpadding="0"><tbody><tr><td style="vertical-align: top;"><p><span style="font-size: 14pt;">Wednesday, January 21, 2026</span></p></td><td style="vertical-align: top;"><p><span style="font-size: 14pt;">Wednesday, July 15, 2026</span></p></td></tr><tr><td style="vertical-align: top;"><p><span style="font-size: 14pt;">Wednesday, March 18, 2026</span></p></td><td style="vertical-align: top;"><p><span style="font-size: 14pt;">Wednesday, September 30, 2026</span></p></td></tr><tr><td style="vertical-align: top;"><p><span style="font-size: 14pt;">Wednesday, May 20, 2026</span></p></td><td style="vertical-align: top;"><p><span style="font-size: 14pt;">Tuesday, December 1, 2026</span></p></td></tr></tbody></table><p>&nbsp;</p><p><span style="font-size: 14pt;">Michael Greco, Deputy Borough Clerk<br /></span><span style="font-size: 14pt;">Borough of Demarest</span></p>
LAST-MODIFIED:20260122T172958Z
SEQUENCE:151
X-ACCESS:1
X-HITS:273
X-COLOR:590093
X-SHOW-END-TIME:0
END:VEVENT
END:VCALENDAR