BEGIN:VCALENDAR
VERSION:2.0
PRODID:DPCALENDAR
CALSCALE:GREGORIAN
BEGIN:VTIMEZONE
TZID:America/New_York
X-MICROSOFT-CDO-TZID:10
BEGIN:STANDARD
DTSTART:20251102T060000
TZOFFSETFROM:-0400
TZOFFSETTO:-0500
TZNAME:EST
END:STANDARD
BEGIN:STANDARD
DTSTART:20261101T060000
TZOFFSETFROM:-0400
TZOFFSETTO:-0500
TZNAME:EST
END:STANDARD
BEGIN:DAYLIGHT
DTSTART:20260308T070000
TZOFFSETFROM:-0500
TZOFFSETTO:-0400
TZNAME:EDT
END:DAYLIGHT
END:VTIMEZONE
X-WR-TIMEZONE:America/New_York
BEGIN:VEVENT
DTSTART;TZID=America/New_York:20240104T190000
DTEND;TZID=America/New_York:20240104T200000
RRULE:FREQ=MONTHLY;BYDAY=1TH;INTERVAL=2;UNTIL=20241108T235900Z
UID:78DCB466-6881-4406-8D4E-90306BCF3E23
SUMMARY:Shade Tree Commission Meeting
CREATED:20240305T124726Z
DTSTAMP:20240305T124726Z
URL:https://demarestnj.gov/resident/calendar/shade-tree-commission-meeting
DESCRIPTION:Annual schedule of regular meetings for 2024 of the Demarest Shade Tree Commission will be held at 7:00pm in the Borough Hall, 118 Serpentine Road, Demarest on the following dates. Formal action may be taken.
X-ALT-DESC;FMTTYPE=text/html:<p>Annual schedule of regular meetings for 2024 of the Demarest Shade Tree Commission will be held at 7:00pm in the Borough Hall, 118 Serpentine Road, Demarest on the following dates. Formal action may be taken.</p>
X-ACCESS:1
X-HITS:101
X-COLOR:3366cc
X-SHOW-END-TIME:0
END:VEVENT
BEGIN:VEVENT
DTSTART;TZID=America/New_York:20240702T190000
DTEND;TZID=America/New_York:20240702T200000
UID:78DCB466-6881-4406-8D4E-90306BCF3E23
RECURRENCE-ID:20240704T230000Z
SUMMARY:Shade Tree Commission Meeting
CREATED:20240305T124726Z
DTSTAMP:20240305T124726Z
URL:https://demarestnj.gov/resident/calendar/shade-tree-commission-meeting-1720134000
DESCRIPTION:Annual schedule of regular meetings for 2024 of the Demarest Shade Tree Commission will be held at 7:00pm in the Borough Hall, 118 Serpentine Road, Demarest on the following dates. Formal action may be taken.
X-ALT-DESC;FMTTYPE=text/html:<p>Annual schedule of regular meetings for 2024 of the Demarest Shade Tree Commission will be held at 7:00pm in the Borough Hall, 118 Serpentine Road, Demarest on the following dates. Formal action may be taken.</p>
LAST-MODIFIED:20240305T124741Z
SEQUENCE:15
X-ACCESS:1
X-HITS:539
X-COLOR:3366cc
X-SHOW-END-TIME:0
END:VEVENT
BEGIN:VEVENT
DTSTART;TZID=America/New_York:20250116T190000
DTEND;TZID=America/New_York:20250116T200000
UID:AF59CB5D-78AE-4FC7-BD70-DCF28DD2B15B
SUMMARY:Shade Tree Commission Reorg Meeting
CREATED:20250102T125428Z
DTSTAMP:20250102T125428Z
URL:https://demarestnj.gov/resident/calendar/shade-tree-commission-reorg
LAST-MODIFIED:20250102T125501Z
SEQUENCE:33
X-ACCESS:1
X-HITS:687
X-COLOR:088c00
X-SHOW-END-TIME:0
END:VEVENT
BEGIN:VEVENT
DTSTART;TZID=America/New_York:20250213T190000
DTEND;TZID=America/New_York:20250213T200000
RRULE:FREQ=MONTHLY;BYDAY=2TH;INTERVAL=1;UNTIL=20251231T235900Z
UID:5B324A52-21EC-45E9-8C62-BDCE3977401B
SUMMARY:Shade Tree Commission Meeting
CREATED:20250113T150133Z
DTSTAMP:20250113T150133Z
URL:https://demarestnj.gov/resident/calendar/shade-tree-commission-meeting-2
LAST-MODIFIED:20250113T150252Z
SEQUENCE:79
X-ACCESS:1
X-HITS:23
X-COLOR:088c00
X-SHOW-END-TIME:0
END:VEVENT
BEGIN:VEVENT
DTSTART;TZID=America/New_York:20250814T190000
DTEND;TZID=America/New_York:20250814T200000
UID:5B324A52-21EC-45E9-8C62-BDCE3977401B
RECURRENCE-ID:20250814T230000Z
SUMMARY:Shade Tree Commission Meeting - CANCELLED
CREATED:20250113T150133Z
DTSTAMP:20250113T150133Z
URL:https://demarestnj.gov/resident/calendar/shade-tree-commission-meeting-2-1755212400
LAST-MODIFIED:20250805T145224Z
SEQUENCE:17625051
X-ACCESS:1
X-HITS:750
X-COLOR:088c00
X-SHOW-END-TIME:0
END:VEVENT
BEGIN:VEVENT
DTSTART;TZID=America/New_York:20260122T190000
DTEND;TZID=America/New_York:20260122T200000
UID:CB381B7D-2DB3-401A-B17F-2B9551488210
SUMMARY:Shade Tree Commission Reorg Meeting
CREATED:20260106T145017Z
DTSTAMP:20260106T145017Z
URL:https://demarestnj.gov/resident/calendar/shade-tree-commission-reorg-meeting
DESCRIPTION:ANNUAL REORGANIZATION MEETINGS - 2026\NPlease be advised that the following bodies of the Borough of Demarest will be holding their annual reorganization meetings at the dates and times below in the Demarest Borough Hall located at 118 Serpentine Road, Demarest, NJ unless otherwise advertised in accordance with the Open Public Meetings Act.\NEnvironmental Commission, Tuesday, January 20, 2026, at 7:30 pm\NBoard of Health, Wednesday, January 21, 2026, at 7:00 pm\NRecreation Commission, Wednesday, January 21, 2026, at 8:00 pm\NShade Tree Commission, Thursday, January 22, 2026, at 7:00 pm\NMichael Greco, Deputy Borough Clerk\NBorough of Demarest
X-ALT-DESC;FMTTYPE=text/html:<p><strong>ANNUAL REORGANIZATION MEETINGS - 2026</strong></p><p>Please be advised that the following bodies of the Borough of Demarest will be holding their annual reorganization meetings at the dates and times below in the Demarest Borough Hall located at 118 Serpentine Road, Demarest, NJ unless otherwise advertised in accordance with the Open Public Meetings Act.</p><p>Environmental Commission, Tuesday, January 20, 2026, at 7:30 pm</p><p>Board of Health, Wednesday, January 21, 2026, at 7:00 pm</p><p>Recreation Commission, Wednesday, January 21, 2026, at 8:00 pm</p><p>Shade Tree Commission, Thursday, January 22, 2026, at 7:00 pm</p><p>Michael Greco, Deputy Borough Clerk</p><p>Borough of Demarest</p>
LAST-MODIFIED:20260114T151920Z
SEQUENCE:692943
X-ACCESS:1
X-HITS:196
X-COLOR:088c00
X-SHOW-END-TIME:0
END:VEVENT
BEGIN:VEVENT
DTSTART;TZID=America/New_York:20260212T190000
DTEND;TZID=America/New_York:20260212T200000
RRULE:FREQ=MONTHLY;BYDAY=2TH;INTERVAL=1;UNTIL=20261231T235900Z
UID:DFA11485-312F-4861-8C1D-7D71968F3719
SUMMARY:Shade Tree Commission Meeting
CREATED:20260123T195327Z
DTSTAMP:20260123T195327Z
URL:https://demarestnj.gov/resident/calendar/shade-tree-commission-meeting-3
DESCRIPTION:SHADE TREE COMMISSION ANNUAL MEETINGS SCHEDULE - 2026\NPlease be advised that the Shade Tree Commission of the Borough of Demarest will meet on the following dates for the year 2026. The Shade Tree Commission meets at 7:00 PM at Demarest Borough Hall, 118 Serpentine Road, Demarest, NJ 07627, unless otherwise advertised in accordance with the Open Public Meetings Act.\N\N\N\N\NThursday, January 22, 2026\N\N\NThursday, July 9, 2026\N\N\N\N\NThursday, February 12, 2026\N\N\NThursday, August 13, 2026\N\N\N\N\NThursday, March 12, 2026\N\N\NThursday, September 10, 2026\N\N\N\N\NThursday, April 9, 2026\N\N\NThursday, October 8, 2026\N\N\N\N\NThursday, May 14, 2026\N\N\NThursday, November 12, 2026\N\N\N\N\NThursday, June 11, 2026\N\N\NThursday, December 10, 2026\N\N\N\N\N \NMichael Greco, Deputy Borough ClerkBorough of Demarest
X-ALT-DESC;FMTTYPE=text/html:<p><span style="font-size: 14pt;"><strong>SHADE TREE COMMISSION ANNUAL MEETINGS SCHEDULE - 2026</strong></span></p><p><span style="font-size: 14pt;">Please be advised that the Shade Tree Commission of the Borough of Demarest will meet on the following dates for the year 2026. The Shade Tree Commission meets at 7:00 PM at Demarest Borough Hall, 118 Serpentine Road, Demarest, NJ 07627, unless otherwise advertised in accordance with the Open Public Meetings Act.</span></p><table border="0" cellspacing="0" cellpadding="0"><tbody><tr><td style="vertical-align: top;"><p><span style="font-size: 14pt;">Thursday, January 22, 2026</span></p></td><td style="vertical-align: top;"><p><span style="font-size: 14pt;">Thursday, July 9, 2026</span></p></td></tr><tr><td style="vertical-align: top;"><p><span style="font-size: 14pt;">Thursday, February 12, 2026</span></p></td><td style="vertical-align: top;"><p><span style="font-size: 14pt;">Thursday, August 13, 2026</span></p></td></tr><tr><td style="vertical-align: top;"><p><span style="font-size: 14pt;">Thursday, March 12, 2026</span></p></td><td style="vertical-align: top;"><p><span style="font-size: 14pt;">Thursday, September 10, 2026</span></p></td></tr><tr><td style="vertical-align: top;"><p><span style="font-size: 14pt;">Thursday, April 9, 2026</span></p></td><td style="vertical-align: top;"><p><span style="font-size: 14pt;">Thursday, October 8, 2026</span></p></td></tr><tr><td style="vertical-align: top;"><p><span style="font-size: 14pt;">Thursday, May 14, 2026</span></p></td><td style="vertical-align: top;"><p><span style="font-size: 14pt;">Thursday, November 12, 2026</span></p></td></tr><tr><td style="vertical-align: top;"><p><span style="font-size: 14pt;">Thursday, June 11, 2026</span></p></td><td style="vertical-align: top;"><p><span style="font-size: 14pt;">Thursday, December 10, 2026</span></p></td></tr></tbody></table><p>&nbsp;</p><p><span style="font-size: 14pt;">Michael Greco, Deputy Borough Clerk<br /></span><span style="font-size: 14pt;">Borough of Demarest</span></p>
LAST-MODIFIED:20260123T195420Z
SEQUENCE:53
X-ACCESS:1
X-HITS:2
X-COLOR:088c00
X-SHOW-END-TIME:0
END:VEVENT
BEGIN:VEVENT
DTSTART;TZID=America/New_York:20260310T190000
DTEND;TZID=America/New_York:20260310T200000
UID:DFA11485-312F-4861-8C1D-7D71968F3719
RECURRENCE-ID:20260312T230000Z
SUMMARY:Shade Tree Commission Meeting
CREATED:20260123T195327Z
DTSTAMP:20260123T195327Z
URL:https://demarestnj.gov/resident/calendar/shade-tree-commission-meeting-3-1773356400
DESCRIPTION:SHADE TREE COMMISSION ANNUAL MEETINGS SCHEDULE - 2026\NPlease be advised that the Shade Tree Commission of the Borough of Demarest will meet on the following dates for the year 2026. The Shade Tree Commission meets at 7:00 PM at Demarest Borough Hall, 118 Serpentine Road, Demarest, NJ 07627, unless otherwise advertised in accordance with the Open Public Meetings Act.\N\N\N\N\NThursday, January 22, 2026\N\N\NThursday, July 9, 2026\N\N\N\N\NThursday, February 12, 2026\N\N\NThursday, August 13, 2026\N\N\N\N\NThursday, March 12, 2026\N\N\NThursday, September 10, 2026\N\N\N\N\NThursday, April 9, 2026\N\N\NThursday, October 8, 2026\N\N\N\N\NThursday, May 14, 2026\N\N\NThursday, November 12, 2026\N\N\N\N\NThursday, June 11, 2026\N\N\NThursday, December 10, 2026\N\N\N\N\N \NMichael Greco, Deputy Borough ClerkBorough of Demarest
X-ALT-DESC;FMTTYPE=text/html:<p><span style="font-size: 14pt;"><strong>SHADE TREE COMMISSION ANNUAL MEETINGS SCHEDULE - 2026</strong></span></p><p><span style="font-size: 14pt;">Please be advised that the Shade Tree Commission of the Borough of Demarest will meet on the following dates for the year 2026. The Shade Tree Commission meets at 7:00 PM at Demarest Borough Hall, 118 Serpentine Road, Demarest, NJ 07627, unless otherwise advertised in accordance with the Open Public Meetings Act.</span></p><table border="0" cellspacing="0" cellpadding="0"><tbody><tr><td style="vertical-align: top;"><p><span style="font-size: 14pt;">Thursday, January 22, 2026</span></p></td><td style="vertical-align: top;"><p><span style="font-size: 14pt;">Thursday, July 9, 2026</span></p></td></tr><tr><td style="vertical-align: top;"><p><span style="font-size: 14pt;">Thursday, February 12, 2026</span></p></td><td style="vertical-align: top;"><p><span style="font-size: 14pt;">Thursday, August 13, 2026</span></p></td></tr><tr><td style="vertical-align: top;"><p><span style="font-size: 14pt;">Thursday, March 12, 2026</span></p></td><td style="vertical-align: top;"><p><span style="font-size: 14pt;">Thursday, September 10, 2026</span></p></td></tr><tr><td style="vertical-align: top;"><p><span style="font-size: 14pt;">Thursday, April 9, 2026</span></p></td><td style="vertical-align: top;"><p><span style="font-size: 14pt;">Thursday, October 8, 2026</span></p></td></tr><tr><td style="vertical-align: top;"><p><span style="font-size: 14pt;">Thursday, May 14, 2026</span></p></td><td style="vertical-align: top;"><p><span style="font-size: 14pt;">Thursday, November 12, 2026</span></p></td></tr><tr><td style="vertical-align: top;"><p><span style="font-size: 14pt;">Thursday, June 11, 2026</span></p></td><td style="vertical-align: top;"><p><span style="font-size: 14pt;">Thursday, December 10, 2026</span></p></td></tr></tbody></table><p>&nbsp;</p><p><span style="font-size: 14pt;">Michael Greco, Deputy Borough Clerk<br /></span><span style="font-size: 14pt;">Borough of Demarest</span></p>
LAST-MODIFIED:20260306T145442Z
SEQUENCE:3610875
X-ACCESS:1
X-HITS:239
X-COLOR:088c00
X-SHOW-END-TIME:0
END:VEVENT
END:VCALENDAR