BEGIN:VCALENDAR
VERSION:2.0
PRODID:DPCALENDAR
CALSCALE:GREGORIAN
BEGIN:VTIMEZONE
TZID:America/New_York
X-MICROSOFT-CDO-TZID:10
BEGIN:STANDARD
DTSTART:20251102T060000
TZOFFSETFROM:-0400
TZOFFSETTO:-0500
TZNAME:EST
END:STANDARD
BEGIN:STANDARD
DTSTART:20261101T060000
TZOFFSETFROM:-0400
TZOFFSETTO:-0500
TZNAME:EST
END:STANDARD
BEGIN:DAYLIGHT
DTSTART:20260308T070000
TZOFFSETFROM:-0500
TZOFFSETTO:-0400
TZNAME:EDT
END:DAYLIGHT
END:VTIMEZONE
X-WR-TIMEZONE:America/New_York
BEGIN:VEVENT
DTSTART;VALUE=DATE:20190222
DTEND;VALUE=DATE:20190223
RRULE:FREQ=MONTHLY;BYDAY=1MO;INTERVAL=1;UNTIL=20190420T235900Z
EXDATE:20190304,20190401
UID:CFD40738-C823-40E3-8B10-605979E3EAF1
SUMMARY:Zoning Meeting
CREATED:20190220T223743Z
DTSTAMP:20190220T223743Z
URL:https://demarestnj.gov/resident/calendar/zoning-meeting
LAST-MODIFIED:20190220T223826Z
SEQUENCE:43
X-ACCESS:1
X-HITS:88
X-COLOR:3366cc
X-SHOW-END-TIME:0
END:VEVENT
BEGIN:VEVENT
DTSTART;TZID=America/New_York:20210303T080000
DTEND;TZID=America/New_York:20210303T090000
UID:09A8460D-AFC0-4734-9C50-D857D19865EE
SUMMARY:Zoning Board Meeting
CREATED:20210302T152408Z
DTSTAMP:20210302T152408Z
URL:https://demarestnj.gov/resident/calendar/zoning-board-meeting
DESCRIPTION:03-03-2021 Meeting Documents
X-ALT-DESC;FMTTYPE=text/html:<p><a class="doclink" href="index.php?option=com_docman&amp;view=list&amp;slug=03-03-2021-meeting-documents&amp;Itemid=992">03-03-2021 Meeting Documents</a></p>
X-ACCESS:1
X-HITS:67
X-COLOR:3366cc
X-SHOW-END-TIME:1
END:VEVENT
BEGIN:VEVENT
DTSTART;TZID=America/New_York:20240220T193000
DTEND;TZID=America/New_York:20240220T213000
RRULE:FREQ=MONTHLY;BYDAY=3TU;INTERVAL=1;UNTIL=20250122T235900Z
UID:DAC318AA-203F-4561-BA36-5D6980495A45
SUMMARY:Zoning Board of Adjustment Meeting
CREATED:20240304T184348Z
DTSTAMP:20240304T184348Z
URL:https://demarestnj.gov/resident/calendar/zoning-board-of-adjustment-meeting
DESCRIPTION:PUBLIC NOTICE BOROUGH OF DEMAREST In compliance with the Open Public Meetings Act, Public Law 1975, Chapter 231, N.J.S.A. 10:4-18 et seq., below is the annual schedule of regular meetings of the Demarest Zoning Board of Adjustment to be held on the 3rd Tuesday of each month at 7:30 pm.The meeting location will be at the Demarest Borough Hall, 118Serpentine Road Demarest, New Jersey 07627
X-ALT-DESC;FMTTYPE=text/html:<p>PUBLIC NOTICE BOROUGH OF DEMAREST In compliance with the Open Public Meetings Act, Public Law 1975, Chapter 231, N.J.S.A. 10:4-18 et seq., below is the annual schedule of regular meetings of the Demarest Zoning Board of Adjustment to be held on the 3rd Tuesday of each month at 7:30 pm.<br /><br />The meeting location will be at the Demarest Borough Hall, 118<br />Serpentine Road Demarest, New Jersey 07627</p>
LAST-MODIFIED:20240305T182030Z
SEQUENCE:85002
X-ACCESS:1
X-HITS:83
X-COLOR:b00000
X-SHOW-END-TIME:0
END:VEVENT
BEGIN:VEVENT
DTSTART;TZID=America/New_York:20241008T193000
DTEND;TZID=America/New_York:20241008T213000
UID:DAC318AA-203F-4561-BA36-5D6980495A45
RECURRENCE-ID:20241015T233000Z
SUMMARY:Zoning Board of Adjustment Meeting - CANCELLED
CREATED:20240304T184348Z
DTSTAMP:20240304T184348Z
URL:https://demarestnj.gov/resident/calendar/zoning-board-of-adjustment-meeting-1729035000
DESCRIPTION:CANCELLED\NPUBLIC NOTICE BOROUGH OF DEMAREST In compliance with the Open Public Meetings Act, Public Law 1975, Chapter 231, N.J.S.A. 10:4-18 et seq., below is the annual schedule of regular meetings of the Demarest Zoning Board of Adjustment to be held on the 3rd Tuesday of each month at 7:30 pm.The meeting location will be at the Demarest Borough Hall, 118Serpentine Road Demarest, New Jersey 07627\NZONING BOARD AGENDA - 10-08-2024
X-ALT-DESC;FMTTYPE=text/html:<p><span style="text-decoration: underline; font-size: 24pt; color: #ff0000;"><strong>CANCELLED</strong></span></p><p>PUBLIC NOTICE BOROUGH OF DEMAREST In compliance with the Open Public Meetings Act, Public Law 1975, Chapter 231, N.J.S.A. 10:4-18 et seq., below is the annual schedule of regular meetings of the Demarest Zoning Board of Adjustment to be held on the 3rd Tuesday of each month at 7:30 pm.<br /><br />The meeting location will be at the Demarest Borough Hall, 118<br />Serpentine Road Demarest, New Jersey 07627</p><p><a href="meetings/meeting-documents/board-of-adjustment-meetings/2024-zoning-board-of-adjustment-meeting-documents/2024-agendas-zoning-board-of-adjustment/1098-10-08-2024-zoning-board-agenda-cancelled/file"><strong><span style="font-size: 24pt;">ZONING BOARD AGENDA -&nbsp;10-08-2024</span></strong></a></p>
LAST-MODIFIED:20241002T123448Z
SEQUENCE:18294660
X-ACCESS:1
X-HITS:809
X-COLOR:b00000
X-SHOW-END-TIME:0
END:VEVENT
BEGIN:VEVENT
DTSTART;TZID=America/New_York:20250121T193000
DTEND;TZID=America/New_York:20250121T213000
UID:DAC318AA-203F-4561-BA36-5D6980495A45
RECURRENCE-ID:20250122T003000Z
SUMMARY:Zoning Board of Adjustment Reorg Meeting
CREATED:20240304T184348Z
DTSTAMP:20240304T184348Z
URL:https://demarestnj.gov/resident/calendar/zoning-board-of-adjustment-meeting-1737505800
DESCRIPTION:PUBLIC NOTICE BOROUGH OF DEMAREST In compliance with the Open Public Meetings Act, Public Law 1975, Chapter 231, N.J.S.A. 10:4-18 et seq., below is the annual schedule of regular meetings of the Demarest Zoning Board of Adjustment to be held on the 3rd Tuesday of each month at 7:30 pm.The meeting location will be at the Demarest Borough Hall, 118Serpentine Road Demarest, New Jersey 07627\N \NAPPLICATIONSZB-24-009 - 20 Pine Hill RoadZB-24-007 - 109 Lake RoadZB-24-005 - 17 Duck Pond Road
X-ALT-DESC;FMTTYPE=text/html:<p><span style="font-size: 12pt;"><strong>PUBLIC NOTICE BOROUGH OF DEMAREST</strong> In compliance with the Open Public Meetings Act, Public Law 1975, Chapter 231, N.J.S.A. 10:4-18 et seq., below is the annual schedule of regular meetings of the Demarest Zoning Board of Adjustment to be held on the 3rd Tuesday of each month at 7:30 pm.</span><br /><br /><span style="font-size: 12pt;">The meeting location will be at the Demarest Borough Hall, 118</span><br /><span style="font-size: 12pt;">Serpentine Road Demarest, New Jersey 07627</span></p><p>&nbsp;</p><p><span style="text-decoration: underline;"><strong><span style="font-size: 12pt;">APPLICATIONS</span></strong></span><br /><span style="font-size: 12pt;">ZB-24-009 - 20 Pine Hill Road</span><br /><span style="font-size: 12pt;">ZB-24-007 - 109 Lake Road</span><br /><span style="font-size: 12pt;">ZB-24-005 - 17 Duck Pond Road</span></p>
LAST-MODIFIED:20250102T125109Z
SEQUENCE:26244441
X-ACCESS:1
X-HITS:1126
X-COLOR:a90000
X-SHOW-END-TIME:0
END:VEVENT
BEGIN:VEVENT
DTSTART;TZID=America/New_York:20250218T193000
DTEND;TZID=America/New_York:20250218T203000
RRULE:FREQ=MONTHLY;BYDAY=3TU;INTERVAL=1;UNTIL=20251231T235900Z
EXDATE:20250415T233000Z,20250520T233000Z,20250617T233000Z,20250715T233000Z,20250819T233000Z,20250916T233000Z,20251021T233000Z,20251119T003000Z,20251217T003000Z
UID:EBB666AC-4E90-4DFB-A944-8F97602FA80A
SUMMARY:Zoning Board of Adjustment Meeting
CREATED:20250122T133850Z
DTSTAMP:20250122T133850Z
URL:https://demarestnj.gov/resident/calendar/zoning-board-of-adjustment-meeting-2
DESCRIPTION:PUBLIC NOTICE BOROUGH OF DEMAREST  In compliance with the Open Public Meetings Act, Public Law 1975, Chapter 231, N.J.S.A. 10:4-18 et seq., below is the annual schedule of regular meetings of the Demarest Zoning Board of Adjustment to be held on the 3rd Tuesday of each month at 7:30 pm.\NThe meeting location will be at the Demarest Borough Hall, 118 Serpentine Road Demarest, New Jersey 07627\N2025 MEETING DATES: Tuesday, February 18th, 2025Tuesday, March 18th, 2025Tuesday, April 15th, 2025Tuesday, May 20th, 2025Tuesday, June 17th, 2025Tuesday, July 15th, 2025Tuesday, August 19th, 2025Tuesday, September 16th, 2025Tuesday, October 21st, 2025Tuesday, November 18th, 2025Tuesday, December 16th, 2025
X-ALT-DESC;FMTTYPE=text/html:<p><strong>PUBLIC NOTICE BOROUGH OF DEMAREST</strong>&nbsp; In compliance with the Open Public Meetings Act, Public Law 1975, Chapter 231, N.J.S.A. 10:4-18 et seq., below is the annual schedule of regular meetings of the Demarest Zoning Board of Adjustment to be held on the 3rd Tuesday of each month at 7:30 pm.</p><p>The meeting location will be at the Demarest Borough Hall, 118 Serpentine Road Demarest, New Jersey 07627</p><p style="padding-left: 30px;"><strong>2025 MEETING DATES: <br /></strong>Tuesday, February 18<sup>th</sup>, 2025<br />Tuesday, March 18<sup>th</sup>, 2025<br />Tuesday, April 15<sup>th</sup>, 2025<br />Tuesday, May 20<sup>th</sup>, 2025<br />Tuesday, June 17<sup>th</sup>, 2025<br />Tuesday, July 15<sup>th</sup>, 2025<br />Tuesday, August 19<sup>th</sup>, 2025<br />Tuesday, September 16<sup>th</sup>, 2025<br />Tuesday, October 21<sup>st</sup>, 2025<br />Tuesday, November 18<sup>th</sup>, 2025<br />Tuesday, December 16<sup>th</sup>, 2025</p>
LAST-MODIFIED:20250122T134115Z
SEQUENCE:145
X-ACCESS:1
X-HITS:7
X-COLOR:a90000
X-SHOW-END-TIME:0
END:VEVENT
BEGIN:VEVENT
DTSTART;TZID=America/New_York:20250218T193000
DTEND;TZID=America/New_York:20250218T203000
UID:EBB666AC-4E90-4DFB-A944-8F97602FA80A
RECURRENCE-ID:20250219T003000Z
SUMMARY:Zoning Board of Adjustment Meeting
CREATED:20250122T133850Z
DTSTAMP:20250122T133850Z
URL:https://demarestnj.gov/resident/calendar/zoning-board-of-adjustment-meeting-2-1739925000
DESCRIPTION:PUBLIC NOTICE BOROUGH OF DEMAREST  In compliance with the Open Public Meetings Act, Public Law 1975, Chapter 231, N.J.S.A. 10:4-18 et seq., below is the annual schedule of regular meetings of the Demarest Zoning Board of Adjustment to be held on the 3rd Tuesday of each month at 7:30 pm.\NThe meeting location will be at the Demarest Borough Hall, 118 Serpentine Road Demarest, New Jersey 07627\N2025 MEETING DATES: Tuesday, February 18th, 2025Tuesday, March 18th, 2025Tuesday, April 15th, 2025Tuesday, May 20th, 2025Tuesday, June 17th, 2025Tuesday, July 15th, 2025Tuesday, August 19th, 2025Tuesday, September 16th, 2025Tuesday, October 21st, 2025Tuesday, November 18th, 2025Tuesday, December 16th, 2025
X-ALT-DESC;FMTTYPE=text/html:<p><strong>PUBLIC NOTICE BOROUGH OF DEMAREST</strong>&nbsp; In compliance with the Open Public Meetings Act, Public Law 1975, Chapter 231, N.J.S.A. 10:4-18 et seq., below is the annual schedule of regular meetings of the Demarest Zoning Board of Adjustment to be held on the 3rd Tuesday of each month at 7:30 pm.</p><p>The meeting location will be at the Demarest Borough Hall, 118 Serpentine Road Demarest, New Jersey 07627</p><p style="padding-left: 30px;"><strong>2025 MEETING DATES: <br /></strong><span style="background-color: #ffff00;">Tuesday, February 18<sup>th</sup>, 2025</span><br />Tuesday, March 18<sup>th</sup>, 2025<br />Tuesday, April 15<sup>th</sup>, 2025<br />Tuesday, May 20<sup>th</sup>, 2025<br />Tuesday, June 17<sup>th</sup>, 2025<br />Tuesday, July 15<sup>th</sup>, 2025<br />Tuesday, August 19<sup>th</sup>, 2025<br />Tuesday, September 16<sup>th</sup>, 2025<br />Tuesday, October 21<sup>st</sup>, 2025<br />Tuesday, November 18<sup>th</sup>, 2025<br />Tuesday, December 16<sup>th</sup>, 2025</p>
LAST-MODIFIED:20250122T134132Z
SEQUENCE:162
X-ACCESS:1
X-HITS:382
X-COLOR:a90000
X-SHOW-END-TIME:0
END:VEVENT
BEGIN:VEVENT
DTSTART;TZID=America/New_York:20250318T193000
DTEND;TZID=America/New_York:20250318T203000
UID:EBB666AC-4E90-4DFB-A944-8F97602FA80A
RECURRENCE-ID:20250318T233000Z
SUMMARY:Zoning Board of Adjustment Meeting - CANCELLED
CREATED:20250122T133850Z
DTSTAMP:20250122T133850Z
URL:https://demarestnj.gov/resident/calendar/zoning-board-of-adjustment-meeting-2-1742340600
DESCRIPTION:ZONING BOARD OF ADJUSTMENT MEETING CANCELLEDDUE TO A LACK OF BUSINESS\N \NNEXT MEETING (SPECIAL MEETING) – TUESDAY, MARCH 25, 2025 NEXT REGULAR MEETING – TUESDAY, APRIL 15, 2025\N \NPUBLIC NOTICE BOROUGH OF DEMAREST  In compliance with the Open Public Meetings Act, Public Law 1975, Chapter 231, N.J.S.A. 10:4-18 et seq., below is the annual schedule of regular meetings of the Demarest Zoning Board of Adjustment to be held on the 3rd Tuesday of each month at 7:30 pm.\NThe meeting location will be at the Demarest Borough Hall, 118 Serpentine Road Demarest, New Jersey 07627\N2025 MEETING DATES: Tuesday, February 18th, 2025Tuesday, March 18th, 2025Tuesday, April 15th, 2025Tuesday, May 20th, 2025Tuesday, June 17th, 2025Tuesday, July 15th, 2025Tuesday, August 19th, 2025Tuesday, September 16th, 2025Tuesday, October 21st, 2025Tuesday, November 18th, 2025Tuesday, December 16th, 2025
X-ALT-DESC;FMTTYPE=text/html:<p style="text-align: center;"><span style="font-size: 24pt;"><strong>ZONING BOARD OF ADJUSTMENT MEETING </strong><span style="color: #ff0000;"><strong>CANCELLED<br /></strong></span></span><span style="font-size: 24pt;"><strong>DUE TO A LACK OF BUSINESS</strong></span></p><p style="text-align: center;"><strong><em>&nbsp;</em></strong></p><p style="text-align: center;"><strong><em>NEXT MEETING (SPECIAL MEETING) – TUESDAY, MARCH 25, 2025<br /> NEXT REGULAR MEETING – TUESDAY, APRIL 15, 2025</em></strong></p><p>&nbsp;</p><p><strong>PUBLIC NOTICE BOROUGH OF DEMAREST</strong>&nbsp; In compliance with the Open Public Meetings Act, Public Law 1975, Chapter 231, N.J.S.A. 10:4-18 et seq., below is the annual schedule of regular meetings of the Demarest Zoning Board of Adjustment to be held on the 3rd Tuesday of each month at 7:30 pm.</p><p>The meeting location will be at the Demarest Borough Hall, 118 Serpentine Road Demarest, New Jersey 07627</p><p style="padding-left: 30px;"><strong>2025 MEETING DATES: <br /></strong>Tuesday, February 18<sup>th</sup>, 2025<br /><span style="background-color: #ffff00;">Tuesday, March 18<sup>th</sup>, 2025</span><br />Tuesday, April 15<sup>th</sup>, 2025<br />Tuesday, May 20<sup>th</sup>, 2025<br />Tuesday, June 17<sup>th</sup>, 2025<br />Tuesday, July 15<sup>th</sup>, 2025<br />Tuesday, August 19<sup>th</sup>, 2025<br />Tuesday, September 16<sup>th</sup>, 2025<br />Tuesday, October 21<sup>st</sup>, 2025<br />Tuesday, November 18<sup>th</sup>, 2025<br />Tuesday, December 16<sup>th</sup>, 2025</p>
LAST-MODIFIED:20250314T152844Z
SEQUENCE:4412994
X-ACCESS:1
X-HITS:595
X-COLOR:a90000
X-SHOW-END-TIME:0
END:VEVENT
BEGIN:VEVENT
DTSTART;TZID=America/New_York:20250325T180000
DTEND;TZID=America/New_York:20250325T193000
UID:CF6CFF77-BBF9-40E1-B7D4-EDF262D23A8A
SUMMARY:Zoning Board of Adjustment Special Meeting
CREATED:20250303T123637Z
DTSTAMP:20250303T123637Z
URL:https://demarestnj.gov/resident/calendar/zoning-board-of-adjustment-special-meeting
DESCRIPTION:BOROUGH OF DEMAREST\NThere will be a Special Meeting of the Zoning Board of Adjustment on Tuesday, March 25, 2025, at 6:00 PM in the Borough Hall Council Chambers at 118 Serpentine Road, Demarest, NJ. Discussion is related to the Zoning Board Application ZB-24-007, for the property located at 109 Lake Road, which is seeking “C” & “D” Variance related to an addition on a house. Formal action may be taken at this meeting.\NLand Use Secretary\NMichael Greco
X-ALT-DESC;FMTTYPE=text/html:<p><span style="font-size: 14pt;">BOROUGH OF DEMAREST</span></p><p><span style="font-size: 14pt;">There will be a Special Meeting of the Zoning Board of Adjustment on Tuesday, March 25, 2025, at 6:00 PM in the Borough Hall Council Chambers at 118 Serpentine Road, Demarest, NJ. Discussion is related to the Zoning Board Application ZB-24-007, for the property located at 109 Lake Road, which is seeking “C” &amp; “D” Variance related to an addition on a house. Formal action may be taken at this meeting.</span></p><p><span style="font-size: 14pt;">Land Use Secretary</span></p><p><span style="font-size: 14pt;">Michael Greco</span></p>
LAST-MODIFIED:20250303T123755Z
SEQUENCE:78
X-ACCESS:1
X-HITS:346
X-COLOR:a90000
X-SHOW-END-TIME:1
END:VEVENT
END:VCALENDAR