BEGIN:VCALENDAR
VERSION:2.0
PRODID:DPCALENDAR
CALSCALE:GREGORIAN
BEGIN:VTIMEZONE
TZID:America/New_York
X-MICROSOFT-CDO-TZID:10
BEGIN:STANDARD
DTSTART:20251102T060000
TZOFFSETFROM:-0400
TZOFFSETTO:-0500
TZNAME:EST
END:STANDARD
BEGIN:STANDARD
DTSTART:20261101T060000
TZOFFSETFROM:-0400
TZOFFSETTO:-0500
TZNAME:EST
END:STANDARD
BEGIN:DAYLIGHT
DTSTART:20260308T070000
TZOFFSETFROM:-0500
TZOFFSETTO:-0400
TZNAME:EDT
END:DAYLIGHT
END:VTIMEZONE
X-WR-TIMEZONE:America/New_York
BEGIN:VEVENT
DTSTART;TZID=America/New_York:20191122T080000
DTEND;TZID=America/New_York:20191122T090000
UID:69DCF65F-2A78-42D0-817E-E970C8ECE2A5
SUMMARY:Rec Event
CREATED:20191119T173935Z
DTSTAMP:20191119T173935Z
URL:https://demarestnj.gov/resident/calendar/rec-event
X-ACCESS:1
X-HITS:75
X-COLOR:3366cc
X-SHOW-END-TIME:1
END:VEVENT
BEGIN:VEVENT
DTSTART;TZID=America/New_York:20240117T200000
DTEND;TZID=America/New_York:20240117T213000
RRULE:FREQ=MONTHLY;BYDAY=3WE;INTERVAL=1;UNTIL=20241219T235900Z
UID:9AF5FD21-8045-4C73-A583-F6DD03939464
SUMMARY:Recreation Commission Meeting
CREATED:20240305T122540Z
DTSTAMP:20240305T122540Z
URL:https://demarestnj.gov/resident/calendar/recreation-commission-meeting
DESCRIPTION:All meetings will convene at 8:30 PM in the Demarest Borough Hall located at 118 Serpentine Road, Demarest, NJ unless otherwise advertised in accordance with the Open Public Meetings Act.
X-ALT-DESC;FMTTYPE=text/html:<p>All meetings will convene at 8:30 PM in the Demarest Borough Hall located at 118 Serpentine Road, Demarest, NJ unless otherwise advertised in accordance with the Open Public Meetings Act.</p>
LAST-MODIFIED:20240311T141938Z
SEQUENCE:525238
X-ACCESS:1
X-HITS:84
X-COLOR:3366cc
X-SHOW-END-TIME:0
END:VEVENT
BEGIN:VEVENT
DTSTART;TZID=America/New_York:20240117T200000
DTEND;TZID=America/New_York:20240117T213000
UID:9AF5FD21-8045-4C73-A583-F6DD03939464
RECURRENCE-ID:20240118T010000Z
SUMMARY:Recreation Commission Meeting
CREATED:20240305T122540Z
DTSTAMP:20240305T122540Z
URL:https://demarestnj.gov/resident/calendar/recreation-commission-meeting-1705539600
DESCRIPTION:All meetings will convene at 8:30 PM in the Demarest Borough Hall located at 118 Serpentine Road, Demarest, NJ unless otherwise advertised in accordance with the Open Public Meetings Act.
X-ALT-DESC;FMTTYPE=text/html:<p>All meetings will convene at 8:30 PM in the Demarest Borough Hall located at 118 Serpentine Road, Demarest, NJ unless otherwise advertised in accordance with the Open Public Meetings Act.</p>
X-ACCESS:1
X-HITS:6
X-COLOR:3366cc
X-SHOW-END-TIME:0
END:VEVENT
BEGIN:VEVENT
DTSTART;TZID=America/New_York:20240221T200000
DTEND;TZID=America/New_York:20240221T213000
UID:9AF5FD21-8045-4C73-A583-F6DD03939464
RECURRENCE-ID:20240222T010000Z
SUMMARY:Recreation Commission Meeting
CREATED:20240305T122540Z
DTSTAMP:20240305T122540Z
URL:https://demarestnj.gov/resident/calendar/recreation-commission-meeting-1708563600
DESCRIPTION:All meetings will convene at 8:30 PM in the Demarest Borough Hall located at 118 Serpentine Road, Demarest, NJ unless otherwise advertised in accordance with the Open Public Meetings Act.
X-ALT-DESC;FMTTYPE=text/html:<p>All meetings will convene at 8:30 PM in the Demarest Borough Hall located at 118 Serpentine Road, Demarest, NJ unless otherwise advertised in accordance with the Open Public Meetings Act.</p>
X-ACCESS:1
X-HITS:45
X-COLOR:3366cc
X-SHOW-END-TIME:0
END:VEVENT
BEGIN:VEVENT
DTSTART;TZID=America/New_York:20240320T200000
DTEND;TZID=America/New_York:20240320T213000
UID:9AF5FD21-8045-4C73-A583-F6DD03939464
RECURRENCE-ID:20240321T000000Z
SUMMARY:Recreation Commission Meeting
CREATED:20240305T122540Z
DTSTAMP:20240305T122540Z
URL:https://demarestnj.gov/resident/calendar/recreation-commission-meeting-1710979200
DESCRIPTION:All meetings will convene at 8:30 PM in the Demarest Borough Hall located at 118 Serpentine Road, Demarest, NJ unless otherwise advertised in accordance with the Open Public Meetings Act.
X-ALT-DESC;FMTTYPE=text/html:<p>All meetings will convene at 8:30 PM in the Demarest Borough Hall located at 118 Serpentine Road, Demarest, NJ unless otherwise advertised in accordance with the Open Public Meetings Act.</p>
X-ACCESS:1
X-HITS:363
X-COLOR:3366cc
X-SHOW-END-TIME:0
END:VEVENT
BEGIN:VEVENT
DTSTART;TZID=America/New_York:20240424T200000
DTEND;TZID=America/New_York:20240424T213000
UID:9AF5FD21-8045-4C73-A583-F6DD03939464
RECURRENCE-ID:20240418T000000Z
SUMMARY:Recreation Commission Meeting
CREATED:20240305T122540Z
DTSTAMP:20240305T122540Z
URL:https://demarestnj.gov/resident/calendar/recreation-commission-meeting-1713398400
DESCRIPTION:All meetings will convene at 8:30 PM in the Demarest Borough Hall located at 118 Serpentine Road, Demarest, NJ unless otherwise advertised in accordance with the Open Public Meetings Act.
X-ALT-DESC;FMTTYPE=text/html:<p>All meetings will convene at 8:30 PM in the Demarest Borough Hall located at 118 Serpentine Road, Demarest, NJ unless otherwise advertised in accordance with the Open Public Meetings Act.</p>
LAST-MODIFIED:20240311T142011Z
SEQUENCE:525271
X-ACCESS:1
X-HITS:483
X-COLOR:3366cc
X-SHOW-END-TIME:0
END:VEVENT
BEGIN:VEVENT
DTSTART;TZID=America/New_York:20240515T200000
DTEND;TZID=America/New_York:20240515T213000
UID:9AF5FD21-8045-4C73-A583-F6DD03939464
RECURRENCE-ID:20240516T000000Z
SUMMARY:Recreation Commission Meeting
CREATED:20240305T122540Z
DTSTAMP:20240305T122540Z
URL:https://demarestnj.gov/resident/calendar/recreation-commission-meeting-1715817600
DESCRIPTION:All meetings will convene at 8:30 PM in the Demarest Borough Hall located at 118 Serpentine Road, Demarest, NJ unless otherwise advertised in accordance with the Open Public Meetings Act.
X-ALT-DESC;FMTTYPE=text/html:<p>All meetings will convene at 8:30 PM in the Demarest Borough Hall located at 118 Serpentine Road, Demarest, NJ unless otherwise advertised in accordance with the Open Public Meetings Act.</p>
X-ACCESS:1
X-HITS:484
X-COLOR:3366cc
X-SHOW-END-TIME:0
END:VEVENT
BEGIN:VEVENT
DTSTART;TZID=America/New_York:20240627T200000
DTEND;TZID=America/New_York:20240627T213000
UID:9AF5FD21-8045-4C73-A583-F6DD03939464
RECURRENCE-ID:20240620T000000Z
SUMMARY:Recreation Commission Meeting
CREATED:20240305T122540Z
DTSTAMP:20240305T122540Z
URL:https://demarestnj.gov/resident/calendar/recreation-commission-meeting-1718841600
DESCRIPTION:All meetings will convene at 8:30 PM in the Demarest Borough Hall located at 118 Serpentine Road, Demarest, NJ unless otherwise advertised in accordance with the Open Public Meetings Act.
X-ALT-DESC;FMTTYPE=text/html:<p>All meetings will convene at 8:30 PM in the Demarest Borough Hall located at 118 Serpentine Road, Demarest, NJ unless otherwise advertised in accordance with the Open Public Meetings Act.</p>
LAST-MODIFIED:20240529T131415Z
SEQUENCE:7346915
X-ACCESS:1
X-HITS:496
X-COLOR:3366cc
X-SHOW-END-TIME:0
END:VEVENT
BEGIN:VEVENT
DTSTART;TZID=America/New_York:20240718T200000
DTEND;TZID=America/New_York:20240718T213000
UID:9AF5FD21-8045-4C73-A583-F6DD03939464
RECURRENCE-ID:20240718T000000Z
SUMMARY:Recreation Commission Meeting
CREATED:20240305T122540Z
DTSTAMP:20240305T122540Z
URL:https://demarestnj.gov/resident/calendar/recreation-commission-meeting-1721260800
DESCRIPTION:All meetings will convene at 8:30 PM in the Demarest Borough Hall located at 118 Serpentine Road, Demarest, NJ unless otherwise advertised in accordance with the Open Public Meetings Act.
X-ALT-DESC;FMTTYPE=text/html:<p>All meetings will convene at 8:30 PM in the Demarest Borough Hall located at 118 Serpentine Road, Demarest, NJ unless otherwise advertised in accordance with the Open Public Meetings Act.</p>
LAST-MODIFIED:20240311T142048Z
SEQUENCE:525308
X-ACCESS:1
X-HITS:591
X-COLOR:3366cc
X-SHOW-END-TIME:0
END:VEVENT
BEGIN:VEVENT
DTSTART;TZID=America/New_York:20240822T200000
DTEND;TZID=America/New_York:20240822T213000
UID:9AF5FD21-8045-4C73-A583-F6DD03939464
RECURRENCE-ID:20240822T000000Z
SUMMARY:Recreation Commission Meeting
CREATED:20240305T122540Z
DTSTAMP:20240305T122540Z
URL:https://demarestnj.gov/resident/calendar/recreation-commission-meeting-1724284800
DESCRIPTION:All meetings will convene at 8:00 PM in the Demarest Borough Hall located at 118 Serpentine Road, Demarest, NJ unless otherwise advertised in accordance with the Open Public Meetings Act.
X-ALT-DESC;FMTTYPE=text/html:<p>All meetings will convene at 8:00 PM in the Demarest Borough Hall located at 118 Serpentine Road, Demarest, NJ unless otherwise advertised in accordance with the Open Public Meetings Act.</p>
LAST-MODIFIED:20240719T120921Z
SEQUENCE:11749421
X-ACCESS:1
X-HITS:578
X-COLOR:3366cc
X-SHOW-END-TIME:0
END:VEVENT
BEGIN:VEVENT
DTSTART;TZID=America/New_York:20240917T200000
DTEND;TZID=America/New_York:20240917T213000
UID:9AF5FD21-8045-4C73-A583-F6DD03939464
RECURRENCE-ID:20240919T000000Z
SUMMARY:Recreation Commission Meeting
CREATED:20240305T122540Z
DTSTAMP:20240305T122540Z
URL:https://demarestnj.gov/resident/calendar/recreation-commission-meeting-1726704000
DESCRIPTION:This meeting will convene at 8:00 PM in the Demarest Borough Hall Kitchen located at 118 Serpentine Road, Demarest, NJ.
X-ALT-DESC;FMTTYPE=text/html:<p><span style="font-size: 18pt;">This meeting will convene at 8:00 PM in the Demarest Borough Hall Kitchen located at 118 Serpentine Road, Demarest, NJ.</span></p>
LAST-MODIFIED:20240904T114506Z
SEQUENCE:15808766
X-ACCESS:1
X-HITS:588
X-COLOR:3366cc
X-SHOW-END-TIME:0
END:VEVENT
BEGIN:VEVENT
DTSTART;TZID=America/New_York:20241017T200000
DTEND;TZID=America/New_York:20241017T213000
UID:9AF5FD21-8045-4C73-A583-F6DD03939464
RECURRENCE-ID:20241017T000000Z
SUMMARY:Recreation Commission Meeting
CREATED:20240305T122540Z
DTSTAMP:20240305T122540Z
URL:https://demarestnj.gov/resident/calendar/recreation-commission-meeting-1729123200
DESCRIPTION:All meetings will convene at 8:30 PM in the Demarest Borough Hall located at 118 Serpentine Road, Demarest, NJ unless otherwise advertised in accordance with the Open Public Meetings Act.
X-ALT-DESC;FMTTYPE=text/html:<p>All meetings will convene at 8:30 PM in the Demarest Borough Hall located at 118 Serpentine Road, Demarest, NJ unless otherwise advertised in accordance with the Open Public Meetings Act.</p>
LAST-MODIFIED:20241015T125833Z
SEQUENCE:19355573
X-ACCESS:1
X-HITS:693
X-COLOR:3366cc
X-SHOW-END-TIME:0
END:VEVENT
BEGIN:VEVENT
DTSTART;TZID=America/New_York:20241120T200000
DTEND;TZID=America/New_York:20241120T213000
UID:9AF5FD21-8045-4C73-A583-F6DD03939464
RECURRENCE-ID:20241121T010000Z
SUMMARY:Recreation Commission Meeting - CANCELLED
CREATED:20240305T122540Z
DTSTAMP:20240305T122540Z
URL:https://demarestnj.gov/resident/calendar/recreation-commission-meeting-1732150800
DESCRIPTION:CANCELLED\NAll meetings will convene at 8:30 PM in the Demarest Borough Hall located at 118 Serpentine Road, Demarest, NJ unless otherwise advertised in accordance with the Open Public Meetings Act.
X-ALT-DESC;FMTTYPE=text/html:<p><span style="text-decoration: underline;"><strong><span style="font-size: 24pt; color: #ff0000; text-decoration: underline;">CANCELLED</span></strong></span></p><p>All meetings will convene at 8:30 PM in the Demarest Borough Hall located at 118 Serpentine Road, Demarest, NJ unless otherwise advertised in accordance with the Open Public Meetings Act.</p>
LAST-MODIFIED:20241119T122037Z
SEQUENCE:22377297
X-ACCESS:1
X-HITS:836
X-COLOR:3366cc
X-SHOW-END-TIME:0
END:VEVENT
BEGIN:VEVENT
DTSTART;TZID=America/New_York:20241218T200000
DTEND;TZID=America/New_York:20241218T213000
UID:9AF5FD21-8045-4C73-A583-F6DD03939464
RECURRENCE-ID:20241219T010000Z
SUMMARY:Recreation Commission Meeting
CREATED:20240305T122540Z
DTSTAMP:20240305T122540Z
URL:https://demarestnj.gov/resident/calendar/recreation-commission-meeting-1734570000
DESCRIPTION:All meetings will convene at 8:30 PM in the Demarest Borough Hall located at 118 Serpentine Road, Demarest, NJ unless otherwise advertised in accordance with the Open Public Meetings Act.
X-ALT-DESC;FMTTYPE=text/html:<p>All meetings will convene at 8:30 PM in the Demarest Borough Hall located at 118 Serpentine Road, Demarest, NJ unless otherwise advertised in accordance with the Open Public Meetings Act.</p>
X-ACCESS:1
X-HITS:830
X-COLOR:3366cc
X-SHOW-END-TIME:0
END:VEVENT
BEGIN:VEVENT
DTSTART;TZID=America/New_York:20250123T203000
DTEND;TZID=America/New_York:20250123T213000
UID:5B519BE2-02F6-46E6-8C86-CAF740C210C4
SUMMARY:Recreation Commission Reorg Meeting
CREATED:20250102T125215Z
DTSTAMP:20250102T125215Z
URL:https://demarestnj.gov/resident/calendar/recreation-commission-reorg-meeting
LAST-MODIFIED:20250113T150110Z
SEQUENCE:958135
X-ACCESS:1
X-HITS:623
X-COLOR:ff2f00
X-SHOW-END-TIME:0
END:VEVENT
BEGIN:VEVENT
DTSTART;TZID=America/New_York:20250226T203000
DTEND;TZID=America/New_York:20250226T213000
RRULE:FREQ=MONTHLY;BYDAY=3WE;INTERVAL=1;UNTIL=20251231T235900Z
UID:98D0D768-52F9-4639-8FE7-781BE17625F1
SUMMARY:Recreation Commission Meeting
CREATED:20250129T164414Z
DTSTAMP:20250129T164414Z
URL:https://demarestnj.gov/resident/calendar/recreation-commission-meeting-2
LAST-MODIFIED:20250129T164540Z
SEQUENCE:86
X-ACCESS:1
X-HITS:19
X-COLOR:ff2f00
X-SHOW-END-TIME:0
END:VEVENT
BEGIN:VEVENT
DTSTART;TZID=America/New_York:20250226T203000
DTEND;TZID=America/New_York:20250226T213000
UID:98D0D768-52F9-4639-8FE7-781BE17625F1
RECURRENCE-ID:20250227T013000Z
SUMMARY:Recreation Commission Meeting
CREATED:20250129T164414Z
DTSTAMP:20250129T164414Z
URL:https://demarestnj.gov/resident/calendar/recreation-commission-meeting-2-1740619800
LAST-MODIFIED:20250129T164541Z
SEQUENCE:87
X-ACCESS:1
X-HITS:379
X-COLOR:ff2f00
X-SHOW-END-TIME:0
END:VEVENT
BEGIN:VEVENT
DTSTART;TZID=America/New_York:20250319T203000
DTEND;TZID=America/New_York:20250319T213000
UID:98D0D768-52F9-4639-8FE7-781BE17625F1
RECURRENCE-ID:20250320T003000Z
SUMMARY:Recreation Commission Meeting
CREATED:20250129T164414Z
DTSTAMP:20250129T164414Z
URL:https://demarestnj.gov/resident/calendar/recreation-commission-meeting-2-1742430600
LAST-MODIFIED:20250129T164541Z
SEQUENCE:87
X-ACCESS:1
X-HITS:539
X-COLOR:ff2f00
X-SHOW-END-TIME:0
END:VEVENT
BEGIN:VEVENT
DTSTART;TZID=America/New_York:20250423T203000
DTEND;TZID=America/New_York:20250423T213000
UID:98D0D768-52F9-4639-8FE7-781BE17625F1
RECURRENCE-ID:20250417T003000Z
SUMMARY:Recreation Commission Meeting
CREATED:20250129T164414Z
DTSTAMP:20250129T164414Z
URL:https://demarestnj.gov/resident/calendar/recreation-commission-meeting-2-1744849800
LAST-MODIFIED:20250129T164556Z
SEQUENCE:102
X-ACCESS:1
X-HITS:531
X-COLOR:ff2f00
X-SHOW-END-TIME:0
END:VEVENT
BEGIN:VEVENT
DTSTART;TZID=America/New_York:20250521T203000
DTEND;TZID=America/New_York:20250521T213000
UID:98D0D768-52F9-4639-8FE7-781BE17625F1
RECURRENCE-ID:20250522T003000Z
SUMMARY:Recreation Commission Meeting
CREATED:20250129T164414Z
DTSTAMP:20250129T164414Z
URL:https://demarestnj.gov/resident/calendar/recreation-commission-meeting-2-1747873800
LAST-MODIFIED:20250129T164541Z
SEQUENCE:87
X-ACCESS:1
X-HITS:602
X-COLOR:ff2f00
X-SHOW-END-TIME:0
END:VEVENT
BEGIN:VEVENT
DTSTART;TZID=America/New_York:20250618T203000
DTEND;TZID=America/New_York:20250618T213000
UID:98D0D768-52F9-4639-8FE7-781BE17625F1
RECURRENCE-ID:20250619T003000Z
SUMMARY:Recreation Commission Meeting - CANCELLED
CREATED:20250129T164414Z
DTSTAMP:20250129T164414Z
URL:https://demarestnj.gov/resident/calendar/recreation-commission-meeting-2-1750293000
LAST-MODIFIED:20250610T114235Z
SEQUENCE:11386701
X-ACCESS:1
X-HITS:654
X-COLOR:ff2f00
X-SHOW-END-TIME:0
END:VEVENT
BEGIN:VEVENT
DTSTART;TZID=America/New_York:20250717T203000
DTEND;TZID=America/New_York:20250717T213000
UID:98D0D768-52F9-4639-8FE7-781BE17625F1
RECURRENCE-ID:20250717T003000Z
SUMMARY:Recreation Commission Meeting - CANCELLED
CREATED:20250129T164414Z
DTSTAMP:20250129T164414Z
URL:https://demarestnj.gov/resident/calendar/recreation-commission-meeting-2-1752712200
LAST-MODIFIED:20250710T124941Z
SEQUENCE:13982727
X-ACCESS:1
X-HITS:677
X-COLOR:ff2f00
X-SHOW-END-TIME:0
END:VEVENT
BEGIN:VEVENT
DTSTART;TZID=America/New_York:20250821T203000
DTEND;TZID=America/New_York:20250821T213000
UID:98D0D768-52F9-4639-8FE7-781BE17625F1
RECURRENCE-ID:20250821T003000Z
SUMMARY:Recreation Commission Meeting
CREATED:20250129T164414Z
DTSTAMP:20250129T164414Z
URL:https://demarestnj.gov/resident/calendar/recreation-commission-meeting-2-1755736200
LAST-MODIFIED:20250129T164611Z
SEQUENCE:117
X-ACCESS:1
X-HITS:743
X-COLOR:ff2f00
X-SHOW-END-TIME:0
END:VEVENT
BEGIN:VEVENT
DTSTART;TZID=America/New_York:20250917T203000
DTEND;TZID=America/New_York:20250917T213000
UID:98D0D768-52F9-4639-8FE7-781BE17625F1
RECURRENCE-ID:20250918T003000Z
SUMMARY:Recreation Commission Meeting - CANCELLED
CREATED:20250129T164414Z
DTSTAMP:20250129T164414Z
URL:https://demarestnj.gov/resident/calendar/recreation-commission-meeting-2-1758155400
LAST-MODIFIED:20250917T133017Z
SEQUENCE:19946763
X-ACCESS:1
X-HITS:758
X-COLOR:ff2f00
X-SHOW-END-TIME:0
END:VEVENT
BEGIN:VEVENT
DTSTART;TZID=America/New_York:20251022T203000
DTEND;TZID=America/New_York:20251022T213000
UID:98D0D768-52F9-4639-8FE7-781BE17625F1
RECURRENCE-ID:20251016T003000Z
SUMMARY:Recreation Commission Meeting
CREATED:20250129T164414Z
DTSTAMP:20250129T164414Z
URL:https://demarestnj.gov/resident/calendar/recreation-commission-meeting-2-1760574600
LAST-MODIFIED:20251007T133428Z
SEQUENCE:21675014
X-ACCESS:1
X-HITS:904
X-COLOR:ff2f00
X-SHOW-END-TIME:0
END:VEVENT
BEGIN:VEVENT
DTSTART;TZID=America/New_York:20251119T203000
DTEND;TZID=America/New_York:20251119T213000
UID:98D0D768-52F9-4639-8FE7-781BE17625F1
RECURRENCE-ID:20251120T013000Z
SUMMARY:Recreation Commission Meeting
CREATED:20250129T164414Z
DTSTAMP:20250129T164414Z
URL:https://demarestnj.gov/resident/calendar/recreation-commission-meeting-2-1763602200
LAST-MODIFIED:20250129T164541Z
SEQUENCE:87
X-ACCESS:1
X-HITS:888
X-COLOR:ff2f00
X-SHOW-END-TIME:0
END:VEVENT
BEGIN:VEVENT
DTSTART;TZID=America/New_York:20251217T203000
DTEND;TZID=America/New_York:20251217T213000
UID:98D0D768-52F9-4639-8FE7-781BE17625F1
RECURRENCE-ID:20251218T013000Z
SUMMARY:Recreation Commission Meeting
CREATED:20250129T164414Z
DTSTAMP:20250129T164414Z
URL:https://demarestnj.gov/resident/calendar/recreation-commission-meeting-2-1766021400
LAST-MODIFIED:20250129T164541Z
SEQUENCE:87
X-ACCESS:1
X-HITS:841
X-COLOR:ff2f00
X-SHOW-END-TIME:0
END:VEVENT
BEGIN:VEVENT
DTSTART;TZID=America/New_York:20260121T200000
DTEND;TZID=America/New_York:20260121T210000
UID:47B4B3A8-1D0C-4E0A-8BF5-DDB61D5BD9A7
SUMMARY:Recreation Commission Reorg Meeting
CREATED:20260106T144951Z
DTSTAMP:20260106T144951Z
URL:https://demarestnj.gov/resident/calendar/recreation-commission-reorg-meeting-2
DESCRIPTION:ANNUAL REORGANIZATION MEETINGS - 2026\NPlease be advised that the following bodies of the Borough of Demarest will be holding their annual reorganization meetings at the dates and times below in the Demarest Borough Hall located at 118 Serpentine Road, Demarest, NJ unless otherwise advertised in accordance with the Open Public Meetings Act.\NEnvironmental Commission, Tuesday, January 20, 2026, at 7:30 pm\NBoard of Health, Wednesday, January 21, 2026, at 7:00 pm\NRecreation Commission, Wednesday, January 21, 2026, at 8:00 pm\NShade Tree Commission, Thursday, January 22, 2026, at 7:00 pm\NMichael Greco, Deputy Borough Clerk\NBorough of Demarest
X-ALT-DESC;FMTTYPE=text/html:<p><strong>ANNUAL REORGANIZATION MEETINGS - 2026</strong></p><p>Please be advised that the following bodies of the Borough of Demarest will be holding their annual reorganization meetings at the dates and times below in the Demarest Borough Hall located at 118 Serpentine Road, Demarest, NJ unless otherwise advertised in accordance with the Open Public Meetings Act.</p><p>Environmental Commission, Tuesday, January 20, 2026, at 7:30 pm</p><p>Board of Health, Wednesday, January 21, 2026, at 7:00 pm</p><p>Recreation Commission, Wednesday, January 21, 2026, at 8:00 pm</p><p>Shade Tree Commission, Thursday, January 22, 2026, at 7:00 pm</p><p>Michael Greco, Deputy Borough Clerk</p><p>Borough of Demarest</p>
LAST-MODIFIED:20260114T151907Z
SEQUENCE:692956
X-ACCESS:1
X-HITS:248
X-COLOR:ff2f00
X-SHOW-END-TIME:0
END:VEVENT
END:VCALENDAR