BEGIN:VCALENDAR
VERSION:2.0
PRODID:DPCALENDAR
CALSCALE:GREGORIAN
BEGIN:VTIMEZONE
TZID:America/New_York
X-MICROSOFT-CDO-TZID:10
BEGIN:STANDARD
DTSTART:20251102T060000
TZOFFSETFROM:-0400
TZOFFSETTO:-0500
TZNAME:EST
END:STANDARD
BEGIN:STANDARD
DTSTART:20261101T060000
TZOFFSETFROM:-0400
TZOFFSETTO:-0500
TZNAME:EST
END:STANDARD
BEGIN:DAYLIGHT
DTSTART:20260308T070000
TZOFFSETFROM:-0500
TZOFFSETTO:-0400
TZNAME:EDT
END:DAYLIGHT
END:VTIMEZONE
X-WR-TIMEZONE:America/New_York
BEGIN:VEVENT
DTSTART;TZID=America/New_York:20240321T100000
DTEND;TZID=America/New_York:20240321T113000
RRULE:FREQ=MONTHLY;BYDAY=3TH;INTERVAL=1;UNTIL=20250101T235900Z
EXDATE:20240620T140000Z,20240718T140000Z,20240815T140000Z
UID:C2206DBE-8452-42AB-BD30-BC6FEBBFB748
SUMMARY:Garden Club Executive Meeting
CREATED:20240305T160451Z
DTSTAMP:20240305T160451Z
URL:https://demarestnj.gov/resident/calendar/garden-club-meeting
DESCRIPTION:The Demarest Garden Club holds it's Executive Meetings at Borough Hall on the 3rd Thursday of the month.
X-ALT-DESC;FMTTYPE=text/html:<p><span style="font-size: 14pt;">The Demarest Garden Club holds it's Executive Meetings at Borough Hall on the 3rd Thursday of the month.</span></p>
LAST-MODIFIED:20240415T170505Z
SEQUENCE:3546014
X-ACCESS:1
X-HITS:238
X-COLOR:3366cc
X-SHOW-END-TIME:1
END:VEVENT
BEGIN:VEVENT
DTSTART;TZID=America/New_York:20240418T100000
DTEND;TZID=America/New_York:20240418T113000
UID:C2206DBE-8452-42AB-BD30-BC6FEBBFB748
RECURRENCE-ID:20240418T140000Z
SUMMARY:Garden Club Executive Meeting - CANCELLED
CREATED:20240305T160451Z
DTSTAMP:20240305T160451Z
URL:https://demarestnj.gov/resident/calendar/garden-club-meeting-1713448800
DESCRIPTION:The Demarest Garden Club holds it's Executive Meetings at Borough Hall on the 3rd Thursday of the month.
X-ALT-DESC;FMTTYPE=text/html:<p><span style="font-size: 14pt;">The Demarest Garden Club holds it's Executive Meetings at Borough Hall on the 3rd Thursday of the month.</span></p>
LAST-MODIFIED:20240417T112826Z
SEQUENCE:3698615
X-ACCESS:1
X-HITS:564
X-COLOR:3366cc
X-SHOW-END-TIME:1
END:VEVENT
BEGIN:VEVENT
DTSTART;TZID=America/New_York:20240405T133000
DTEND;TZID=America/New_York:20240405T143000
UID:589B3058-A44B-4561-9FB0-765D7A9C40C6
SUMMARY:Garden Club Educational Speaker
CREATED:20240401T122706Z
DTSTAMP:20240401T122706Z
URL:https://demarestnj.gov/resident/calendar/garden-club-educational-speaker
DESCRIPTION:Please join us on Friday April 5, 2024 at 1:30pm, the Demarest Garden Club Free Educational Lecture:\NUnited Methodist Church, 109 Hardenburgh Ave, Demarest\NProgram:  Composting: Happy Dirt=Happy Plants\NSpeaker: Ray Cywinski
X-ALT-DESC;FMTTYPE=text/html:<p>Please join us on Friday April 5, 2024 at 1:30pm, the Demarest Garden Club Free Educational Lecture:</p><p>United Methodist Church, 109 Hardenburgh Ave, Demarest</p><p><strong>Program:&nbsp; Composting: Happy Dirt=Happy Plants</strong></p><p><strong>Speaker: Ray Cywinski</strong></p>
LAST-MODIFIED:20240401T122826Z
SEQUENCE:80
X-ACCESS:1
X-HITS:448
X-COLOR:3366cc
X-SHOW-END-TIME:1
END:VEVENT
BEGIN:VEVENT
DTSTART;TZID=America/New_York:20240503T140000
DTEND;TZID=America/New_York:20240503T170000
UID:7DFCF91A-6909-4308-8F45-BCB62175A8A3
SUMMARY:Garden Club Plant Sale Pickup
CREATED:20240415T170737Z
DTSTAMP:20240415T170737Z
URL:https://demarestnj.gov/resident/calendar/garden-club-plant-sale-pickup
DESCRIPTION:The Demarest Garden Club is holding it's Plant Sale Pickup on Friday, May 3 from 2:00pm - 5:00pm and Saturday, May 4 from 9:00am - 12:00pm at the United Methodist Church, 109 Hardenburgh Ave, Demarest, NJ 07627\NThere will also be a quick meeting of the Demarest Garden Club
X-ALT-DESC;FMTTYPE=text/html:<p><span style="font-size: 14pt;">The Demarest Garden Club is holding it's Plant Sale Pickup on Friday, May 3 from 2:00pm - 5:00pm and Saturday, May 4 from 9:00am - 12:00pm at the United Methodist Church,&nbsp;109 Hardenburgh Ave, Demarest, NJ 07627</span></p><p><span style="font-size: 14pt;">There will also be a quick meeting of the Demarest Garden Club</span></p>
LAST-MODIFIED:20240415T171129Z
SEQUENCE:232
X-ACCESS:1
X-HITS:728
X-COLOR:3366cc
X-SHOW-END-TIME:1
END:VEVENT
BEGIN:VEVENT
DTSTART;TZID=America/New_York:20240504T080000
DTEND;TZID=America/New_York:20240504T090000
UID:A7B6C3CA-C85D-49AA-89B6-AB1215C46CD1
SUMMARY:Garden Club Plant Sale Pickup
CREATED:20240415T171210Z
DTSTAMP:20240415T171210Z
URL:https://demarestnj.gov/resident/calendar/garden-club-plant-sale-pickup-2
DESCRIPTION:The Demarest Garden Club is holding it's Plant Sale Pickup on Friday, May 3 from 2:00pm - 5:00pm and Saturday, May 4 from 9:00am - 12:00pm at the United Methodist Church, 109 Hardenburgh Ave, Demarest, NJ 07627
X-ALT-DESC;FMTTYPE=text/html:<p><span style="font-size: 14pt;">The Demarest Garden Club is holding it's Plant Sale Pickup on Friday, May 3 from 2:00pm - 5:00pm and Saturday, May 4 from 9:00am - 12:00pm at the United Methodist Church,&nbsp;109 Hardenburgh Ave, Demarest, NJ 07627</span></p>
LAST-MODIFIED:20240415T171222Z
SEQUENCE:12
X-ACCESS:1
X-HITS:571
X-COLOR:3366cc
X-SHOW-END-TIME:1
END:VEVENT
BEGIN:VEVENT
DTSTART;TZID=America/New_York:20240607T100000
DTEND;TZID=America/New_York:20240607T110000
UID:37514A6F-9522-4365-ABB2-E5A516719E03
SUMMARY:Garden Club Pot-Luck Luncheon (Members Only)
CREATED:20240415T171328Z
DTSTAMP:20240415T171328Z
URL:https://demarestnj.gov/resident/calendar/garden-club-pot-luck-luncheon-members-only
X-ACCESS:1
X-HITS:660
X-COLOR:3366cc
X-SHOW-END-TIME:1
END:VEVENT
END:VCALENDAR