BEGIN:VCALENDAR
VERSION:2.0
PRODID:DPCALENDAR
CALSCALE:GREGORIAN
BEGIN:VTIMEZONE
TZID:America/New_York
X-MICROSOFT-CDO-TZID:10
BEGIN:STANDARD
DTSTART:20251102T060000
TZOFFSETFROM:-0400
TZOFFSETTO:-0500
TZNAME:EST
END:STANDARD
BEGIN:STANDARD
DTSTART:20261101T060000
TZOFFSETFROM:-0400
TZOFFSETTO:-0500
TZNAME:EST
END:STANDARD
BEGIN:DAYLIGHT
DTSTART:20260308T070000
TZOFFSETFROM:-0500
TZOFFSETTO:-0400
TZNAME:EDT
END:DAYLIGHT
END:VTIMEZONE
X-WR-TIMEZONE:America/New_York
BEGIN:VEVENT
DTSTART;TZID=America/New_York:20240315T193000
DTEND;TZID=America/New_York:20240315T203000
RRULE:FREQ=MONTHLY;BYDAY=2TH;INTERVAL=1;UNTIL=20250101T235900Z
EXDATE:20240711T233000Z,20240808T233000Z
UID:04A350CB-813C-4D71-8170-AC94CE0B0062
SUMMARY:Demarest Nature Center Meeting
CREATED:20240305T162247Z
DTSTAMP:20240305T162247Z
URL:https://demarestnj.gov/resident/calendar/demarest-nature-center-meeting
DESCRIPTION:LOCATION: Demarest Rail Road Station
X-ALT-DESC;FMTTYPE=text/html:<p><strong>LOCATION:</strong> Demarest Rail Road Station</p>
LAST-MODIFIED:20240320T124643Z
SEQUENCE:1283036
X-ACCESS:1
X-HITS:107
X-COLOR:3366cc
X-SHOW-END-TIME:1
END:VEVENT
END:VCALENDAR