BEGIN:VCALENDAR
VERSION:2.0
PRODID:DPCALENDAR
CALSCALE:GREGORIAN
BEGIN:VTIMEZONE
TZID:America/New_York
X-MICROSOFT-CDO-TZID:10
BEGIN:STANDARD
DTSTART:20251102T060000
TZOFFSETFROM:-0400
TZOFFSETTO:-0500
TZNAME:EST
END:STANDARD
BEGIN:STANDARD
DTSTART:20261101T060000
TZOFFSETFROM:-0400
TZOFFSETTO:-0500
TZNAME:EST
END:STANDARD
BEGIN:DAYLIGHT
DTSTART:20260308T070000
TZOFFSETFROM:-0500
TZOFFSETTO:-0400
TZNAME:EDT
END:DAYLIGHT
END:VTIMEZONE
X-WR-TIMEZONE:America/New_York
BEGIN:VEVENT
DTSTART;TZID=America/New_York:20240305T173000
DTEND;TZID=America/New_York:20240305T183000
UID:D30EEB43-ACFD-497E-BDD8-7E159FB062A1
SUMMARY:Pool Committee Meeting
CREATED:20240305T160224Z
DTSTAMP:20240305T160224Z
URL:https://demarestnj.gov/resident/calendar/pool-committee-meeting
LAST-MODIFIED:20240305T173514Z
SEQUENCE:5570
X-ACCESS:1
X-HITS:397
X-COLOR:3366cc
X-SHOW-END-TIME:1
END:VEVENT
BEGIN:VEVENT
DTSTART;TZID=America/New_York:20240306T200000
DTEND;TZID=America/New_York:20240306T210000
RRULE:FREQ=WEEKLY;BYDAY=WE;INTERVAL=1;UNTIL=20240326T235900Z
EXDATE:20240321T000000Z
UID:3C5EF334-8372-4B51-8652-168C7C14F106
SUMMARY:Pool Committee Meeting
CREATED:20240305T160344Z
DTSTAMP:20240305T160344Z
URL:https://demarestnj.gov/resident/calendar/pool-committee-meeting-2
LAST-MODIFIED:20240307T162113Z
SEQUENCE:173849
X-ACCESS:1
X-HITS:186
X-COLOR:37a8a6
X-SHOW-END-TIME:1
END:VEVENT
BEGIN:VEVENT
DTSTART;TZID=America/New_York:20240306T200000
DTEND;TZID=America/New_York:20240306T210000
UID:3C5EF334-8372-4B51-8652-168C7C14F106
RECURRENCE-ID:20240307T010000Z
SUMMARY:Pool Committee Meeting
CREATED:20240305T160344Z
DTSTAMP:20240305T160344Z
URL:https://demarestnj.gov/resident/calendar/pool-committee-meeting-2-1709773200
X-ACCESS:1
X-HITS:16
X-COLOR:37a8a6
X-SHOW-END-TIME:1
END:VEVENT
BEGIN:VEVENT
DTSTART;TZID=America/New_York:20240313T200000
DTEND;TZID=America/New_York:20240313T210000
UID:3C5EF334-8372-4B51-8652-168C7C14F106
RECURRENCE-ID:20240314T000000Z
SUMMARY:Pool Committee Meeting
CREATED:20240305T160344Z
DTSTAMP:20240305T160344Z
URL:https://demarestnj.gov/resident/calendar/pool-committee-meeting-2-1710374400
X-ACCESS:1
X-HITS:362
X-COLOR:37a8a6
X-SHOW-END-TIME:1
END:VEVENT
BEGIN:VEVENT
DTSTART;TZID=America/New_York:20240319T200000
DTEND;TZID=America/New_York:20240319T210000
UID:EE370185-844B-48C7-BE16-156CDF214FB8
SUMMARY:Pool Committee Meeting
CREATED:20240318T152127Z
DTSTAMP:20240318T152127Z
URL:https://demarestnj.gov/resident/calendar/pool-committee-meeting-3
LAST-MODIFIED:20240318T152158Z
SEQUENCE:31
X-ACCESS:1
X-HITS:321
X-COLOR:4ba3cc
X-SHOW-END-TIME:1
END:VEVENT
BEGIN:VEVENT
DTSTART;TZID=America/New_York:20250327T180000
DTEND;TZID=America/New_York:20250327T210000
UID:820ECD13-D439-42AF-8AA3-FAEEF459CD66
SUMMARY:Swim Club Registration Night
CREATED:20250303T150855Z
DTSTAMP:20250303T150855Z
URL:https://demarestnj.gov/resident/calendar/swim-club-registration-night
LAST-MODIFIED:20250315T173813Z
SEQUENCE:1045758
X-ACCESS:1
X-HITS:492
X-COLOR:3366cc
X-SHOW-END-TIME:1
END:VEVENT
END:VCALENDAR